BEGIN:VCALENDAR
VERSION:2.0
PRODID:-//KBBMC//Match//TR
BEGIN:VEVENT
UID:kbbmc-47057@www-dev.kbbkspor.com
DTSTAMP:20260421T085058Z
DTSTART:20260420T150000Z
DTEND:20260420T170000Z
SUMMARY:Kocaeli BŞB Kağıtspor &amp; Fenerbahçe Medicana
DESCRIPTION:Erkekler Voleybol 1. Ligi
END:VEVENT
END:VCALENDAR
